BEGIN:VCALENDAR
VERSION:2.0
PRODID:Events Booking
BEGIN:VEVENT
UID:69e53498be6b2
SUMMARY:APES Shanghai International Auto Parts Exhibition  2026
DESCRIPTION:APES Shanghai International Auto Parts Exhibition will be grand
 ly held from 5-7 August\, 2026\, at the National Exhibition and Convention
  Center (Shanghai). As a premier annual event for China's automotive after
 market\, this year's exhibition will bring together 2\,000+ source factori
 es.
DTSTART:20260805T000000Z
DTEND:20260807T000000Z
DTSTAMP:20260419T150615Z
ORGANIZER;CN=Automotive Era:MAILTO:info@automotive-era.com
END:VEVENT
END:VCALENDAR