BEGIN:VCALENDAR
VERSION:2.0
PRODID:Events Booking
BEGIN:VEVENT
UID:69eb04208ecac
SUMMARY:Automässan – Auto Show 2026
DESCRIPTION:For four days\, suppliers\, manufacturers\, wholesalers\, exper
 ts and other stakeholders in the motor industry’s service and aftermarke
 t meet.
LOCATION:411 10\, Sweden
DTSTART:20260114T000000Z
DTEND:20260117T000000Z
DTSTAMP:20251126T030520Z
ORGANIZER;CN=Automotive Era:MAILTO:info@automotive-era.com
GEO:57.707233;11.967017
X-APPLE-STRUCTURED-LOCATION;VALUE=URI;X-ADDRESS=411 10\, Sweden;X-APPLE-RAD
 IUS=72;X-TITLE=Gothenburg:57.707233;11.967017
END:VEVENT
END:VCALENDAR