BEGIN:VCALENDAR
VERSION:2.0
PRODID:Events Booking
BEGIN:VEVENT
UID:69e4ebbcbc74d
SUMMARY:Dhaka Auto Parts Show 2026
DESCRIPTION:“Dhaka Auto Parts Show” stands firmly as one of the flagshi
 p events of CEMS-Global in Bangladesh and has become an icon of the countr
 y as the Most Premier International Motor Parts Exhibition of Bangladesh.
LOCATION:Bangladesh
DTSTART:20260423T000000Z
DTEND:20260425T000000Z
DTSTAMP:20251009T152339Z
ORGANIZER;CN=Automotive Era:MAILTO:info@automotive-era.com
GEO:24.476929;90.293441
X-APPLE-STRUCTURED-LOCATION;VALUE=URI;X-ADDRESS=Bangladesh;X-APPLE-RADIUS=7
 2;X-TITLE=Dhaka:24.476929;90.293441
END:VEVENT
END:VCALENDAR