BEGIN:VCALENDAR
VERSION:2.0
PRODID:Events Booking
BEGIN:VEVENT
UID:69e4ebb19e1d0
SUMMARY:Erbil Autoshow 2026
DESCRIPTION:11th Erbil Autoshow  Exhibition will take place in Erbil Inter
 national Fair Ground between  05-08 February 2026 as the unique autoshow 
 in Iraq.
LOCATION:Turkey
DTSTART:20260205T000000Z
DTEND:20260208T000000Z
DTSTAMP:20251009T153107Z
ORGANIZER;CN=Automotive Era:MAILTO:info@automotive-era.com
GEO:41.057609;29.315643
X-APPLE-STRUCTURED-LOCATION;VALUE=URI;X-ADDRESS=Turkey;X-APPLE-RADIUS=72;X-
 TITLE= Turkey:41.057609;29.315643
END:VEVENT
END:VCALENDAR