BEGIN:VCALENDAR
VERSION:2.0
PRODID:Events Booking
BEGIN:VEVENT
UID:69e63827237fb
SUMMARY:GAIKINDO Indonesia International Auto Show 2026
DESCRIPTION:The world-class auto show series\, GAIKINDO Indonesia Internati
 onal Auto Show (GIIAS) returns in July 2026.
LOCATION:Jalan BSD Grand Boulevard\, Pagedangan\, 15339 Banten\, Indonesia
DTSTART:20260730T000000Z
DTEND:20260809T000000Z
DTSTAMP:20260420T093916Z
ORGANIZER;CN=Automotive Era:MAILTO:info@automotive-era.com
GEO:-6.300681;106.636572
X-APPLE-STRUCTURED-LOCATION;VALUE=URI;X-ADDRESS=Jalan BSD Grand Boulevard\,
  Pagedangan\, 15339 Banten\, Indonesia;X-APPLE-RADIUS=72;X-TITLE=Indonesia
 :-6.300681;106.636572
END:VEVENT
END:VCALENDAR