BEGIN:VCALENDAR
VERSION:2.0
PRODID:Events Booking
BEGIN:VEVENT
UID:69eb046894563
SUMMARY:Heavy Duty Aftermarket Week 2026
DESCRIPTION:Heavy Duty Aftermarket Week (HDAW) is the largest North America
 n gathering of heavy duty aftermarket professionals in the industry with m
 ore than 2\,900 executives and managers\, including distributors\, supplie
 rs\, service providers\, educators\, and . . . 
LOCATION:Texas\, United States
DTSTART:20260119T000000Z
DTEND:20260122T000000Z
DTSTAMP:20251125T123452Z
ORGANIZER;CN=Automotive Era:MAILTO:info@automotive-era.com
GEO:32.933738;-97.078875
X-APPLE-STRUCTURED-LOCATION;VALUE=URI;X-ADDRESS=Texas\, United States;X-APP
 LE-RADIUS=72;X-TITLE=Grapevine\, TX:32.933738;-97.078875
END:VEVENT
END:VCALENDAR