BEGIN:VCALENDAR
VERSION:2.0
PRODID:Events Booking
BEGIN:VEVENT
UID:69e6279187c49
SUMMARY:SPE Automotive Composites Conference & Exhibition (ACCE) 2026
DESCRIPTION:The SPE Automotive Composites Conference &amp\; Exhibition (ACC
 E) is dedicated to the benefits of thermoplastic and thermoset composites 
 in light trucks\, passenger vehicles\, and other ground transportation app
 lications.
LOCATION:Grand River Avenue\, Novi\, 48374 Michigan\, United States
DTSTART:20260909T000000Z
DTEND:20260910T000000Z
DTSTAMP:20260420T094806Z
ORGANIZER;CN=Automotive Era:MAILTO:info@automotive-era.com
GEO:42.489595;-83.503564
X-APPLE-STRUCTURED-LOCATION;VALUE=URI;X-ADDRESS=Grand River Avenue\, Novi\,
  48374 Michigan\, United States;X-APPLE-RADIUS=72;X-TITLE=United States:42
 .489595;-83.503564
END:VEVENT
END:VCALENDAR